BEGIN:VCALENDAR
VERSION:2.0
PRODID:-//Acomi Manitoba - ECPv6.15.20//NONSGML v1.0//EN
CALSCALE:GREGORIAN
METHOD:PUBLISH
X-WR-CALNAME:Acomi Manitoba
X-ORIGINAL-URL:https://acomimanitoba.ca
X-WR-CALDESC:Events for Acomi Manitoba
REFRESH-INTERVAL;VALUE=DURATION:PT1H
X-Robots-Tag:noindex
X-PUBLISHED-TTL:PT1H
BEGIN:VTIMEZONE
TZID:UTC
BEGIN:STANDARD
TZOFFSETFROM:+0000
TZOFFSETTO:+0000
TZNAME:UTC
DTSTART:20250101T000000
END:STANDARD
END:VTIMEZONE
BEGIN:VEVENT
DTSTART;TZID=UTC:20260129T173000
DTEND;TZID=UTC:20260129T193000
DTSTAMP:20260419T015736
CREATED:20260127T132253Z
LAST-MODIFIED:20260322T232526Z
UID:27829-1769707800-1769715000@acomimanitoba.ca
SUMMARY:Black History Month Kick off
DESCRIPTION:“Celebrating Black History Through Art\,” highlights the wisdom\, stories\, and cultural legacy of our seniors. The evening will feature an exhibition\, storytelling\, and cultural presentations that honour and celebrate our shared heritage.
URL:https://acomimanitoba.ca/event/black-history-month-kick-off/
LOCATION:Acomi Cultural Center\, 301 Nassau St N #200\,\, Winnipeg\,\, Manitoba\, MB R3L\, Canada
CATEGORIES:General Events
ATTACH;FMTTYPE=image/jpeg:https://acomimanitoba.ca/wp-content/uploads/2026/01/scaled_1152.jpg
END:VEVENT
END:VCALENDAR