BEGIN:VCALENDAR
VERSION:2.0
PRODID:-//Acomi Manitoba - ECPv6.15.20//NONSGML v1.0//EN
CALSCALE:GREGORIAN
METHOD:PUBLISH
X-ORIGINAL-URL:https://acomimanitoba.ca
X-WR-CALDESC:Events for Acomi Manitoba
REFRESH-INTERVAL;VALUE=DURATION:PT1H
X-Robots-Tag:noindex
X-PUBLISHED-TTL:PT1H
BEGIN:VTIMEZONE
TZID:UTC
BEGIN:STANDARD
TZOFFSETFROM:+0000
TZOFFSETTO:+0000
TZNAME:UTC
DTSTART:20250101T000000
END:STANDARD
END:VTIMEZONE
BEGIN:VEVENT
DTSTART;TZID=UTC:20260223T110000
DTEND;TZID=UTC:20260223T190000
DTSTAMP:20260421T081357
CREATED:20260131T232351Z
LAST-MODIFIED:20260131T232351Z
UID:27881-1771844400-1771873200@acomimanitoba.ca
SUMMARY:FREE INCOME TAX CLINIC
DESCRIPTION:FREE INCOME TAX CLINIC \n✓ FREE TO EVERYONE \nMONDAY FEB. 23RD \nFRI. DEC. 18TH\, 2026 \nHours: MON. – THURS: 11AM – 7PM FRIDAY: 11AM – 4PM \nCLOSE AT 4:30 PM ON THE FIRST TUESDAY OF THE MONTH \n📍 ACOMI RESOURCE CENTRE 421 Kennedy St Unit 101 \nFor more info: 204-221-6696 \nEligibility Income: \n\nOne person up to $37\,000\nCouple up to $52\,000\nEach Additional Dependent $2\,500\n\nNot Eligible: \n\nSelf-Employed\nHave Rental Income\nHave more than $3\,000 Interest Income\n\nDocuments to bring \n\nCome with tax slips (T4s\, T4As\, etc.)\nRent receipts\, Charitable donation receipts\, medical receipts\, etc.\n\nQualification: \n\nYou are not self employed\nYou have not filed for bankruptcy within the tax year\nYou do not have capital gains or losses\nYou are not filing for a deceased person
URL:https://acomimanitoba.ca/event/free-income-tax-clinic/
LOCATION:ACOMI RESOURCE CENTRE\, 421 Kennedy St Unit 101\, Winnipeg\, Manitoba\, Canada
CATEGORIES:General Events
ATTACH;FMTTYPE=image/jpeg:https://acomimanitoba.ca/wp-content/uploads/2026/01/dddeae82-15a7-f5f1-60fa-dcd2aab36295.jpg
END:VEVENT
BEGIN:VEVENT
DTSTART;TZID=UTC:20260226T180000
DTEND;TZID=UTC:20260226T210000
DTSTAMP:20260421T081357
CREATED:20260131T231034Z
LAST-MODIFIED:20260131T231034Z
UID:27871-1772128800-1772139600@acomimanitoba.ca
SUMMARY:AFRO NIGHT
DESCRIPTION:GRANT PARK HIGH SCHOOL BHM CLUB \nAFRO NIGHT \nCome celebrate black culture with performances\, music and free food at our event at Grant Park High School Senior Gym. \nTHURSDAY \n26 FEBRUARY 2026. \n🕐 6:00PM – 9:00PM \nSTUDENT ENTRY IS FREE ADULT FEE $10 FOR A TICKET \nProudly Sponsored by: \nACOMI AFRICAN COMMUNITIES OF MANITOBA INC. \n(ALL THAT KIDS CAN BE) \nCome dressed in your cultural clothing\, eat some afro-caribbean dishes and dance to afrobeat music.
URL:https://acomimanitoba.ca/event/afro-night/
LOCATION:Grant Park High School Senior Gym\, Winnipeg\, Manitoba\, Canada
CATEGORIES:General Events
ATTACH;FMTTYPE=image/jpeg:https://acomimanitoba.ca/wp-content/uploads/2026/01/9c036436-b4b2-9805-5a3a-40d9e9b6e75c.jpeg
END:VEVENT
BEGIN:VEVENT
DTSTART;TZID=UTC:20260327T173000
DTEND;TZID=UTC:20260327T190000
DTSTAMP:20260421T081357
CREATED:20260322T232829Z
LAST-MODIFIED:20260322T232829Z
UID:27959-1774632600-1774638000@acomimanitoba.ca
SUMMARY:Nourish and Connect Senior's Food Project Session
DESCRIPTION:Event: Nourish and Connect Senior’s Food Project Session \nTopic: Understanding Anxiety\, OCD & Hoarding in Older Adults \nTheme: Caring for the Mind: Understanding Anxiety\, OCD\, and Hoarding \nFacilitated by: CHMA OCD and Hoarding Service Team \nDate: March 27\, 2026 \nVenue: ACC \nTime: 5:30 to 7:30 PM \nOrganizers: ACOMI (African Communities of Manitoba Inc.) & Right to Food
URL:https://acomimanitoba.ca/event/nourish-and-connect-seniors-food-project-session/
LOCATION:Acomi Cultural Center\, 301 Nassau St N #200\,\, Winnipeg\,\, Manitoba\, MB R3L\, Canada
CATEGORIES:General Events
ATTACH;FMTTYPE=image/jpeg:https://acomimanitoba.ca/wp-content/uploads/2026/03/WhatsApp-Image-2026-03-22-at-15.59.10.jpeg
END:VEVENT
END:VCALENDAR